BEGIN:VCALENDAR
VERSION:2.0
PRODID:-//wp-events-plugin.com//7.2.3.1//EN
BEGIN:VEVENT
UID:3@alltagsbehr.de
DTSTART;TZID=Europe/Berlin:20260318T133000
DTEND;TZID=Europe/Berlin:20260318T173000
DTSTAMP:20260130T094613Z
URL:https://alltagsbehr.de/kalender/chronisch-gesund-neue-perspektiven-auf
 -das-was-gut-tut/
SUMMARY:Chronisch gesund – neue Perspektiven auf das\, was gut tut
DESCRIPTION:\n\n\nImpulse für mehr Wohlbefinden und eine gesunde Balance.\
 nReferentinnen\n\n 	Constance Höbinger – Familiencoach und Mentorin fü
 r Kommunikation\, Bewusstsein und ganzheitliche Gesundheitsprävention.\nH
 omepage: constance-hoebinger.de\n 	Petra Kappelmeier – Heilpraktikerin 
 für Psychotherapie\, Klinische Trainerin für Achtsamkeit und Selbstmitge
 fühl\, Stressmanagement-Trainerin\n 	Andrea Seiner – TCM Ernährungsber
 aterin und Coach\,\nHomepage: www.tcm-for-life.de\n\n\n\n\n\n\n\n\nProgram
 m\n13:30 Uhr: Ankommen\n\n14:00 - 14:45 Uhr:\n\nChronisch gesund - aus Sic
 ht der Traditionellen Chinesischen Medizin (Andrea Seiner)\n\nEine der Sä
 ulen in der TCM ist die Ernährung. Hier gilt mein Grundsatz: Du bist einz
 igartig\, lass es Deine Ernährung auch sein. Ich nehme Dich mit in die We
 lt der TCM Ernährung\, hier geht es um Yin und Yang\, thermische Wirkung 
 von Lebensmitteln und natürlich darum\, Körper\, Geist und Seele in Eink
 lang zu bringen.\n\n15:00 - 15:45 Uhr:\n\n"Entdecke deine Zellkraft – f
 ür eine andere Lebensqualität" (Constance Höbinger)\n\nDu funktionierst
  – aber fühlst dich oft erschöpft? Dein Nervenkostüm ist dünn\, die 
 Gedanken kreisen – und gleichzeitig fehlt dir die Kraft\, wirklich etwas
  zu verändern?\n\nWas\, wenn die Lösung in deinen Zellen liegt?\n\nDiese
 r Vortrag zeigt dir\, wie Ernährung\, mentale Stärke und Zellversorgung 
 zusammenhängen – bei dir und deinem Kind. Du lernst\, warum Ernährung 
 allein oft nicht ausreicht und was dein noch Körper braucht\, um ins Glei
 chgewicht zu kommen.\n\nDu erfährst:\n• was dein Gehirn nährt – und 
 was es ausbremst\n• wodurch dein Körper Energie gewinnt – und was sie
  ihm nimmt\n• weshalb das nicht nur für Kinder wichtig ist\, sondern f
 ür jedes Lebensalter\n• warum Gesundheit mehr ist als Vitamine und Bewe
 gung\n\nEin inspirierender Impulsvortrag für Eltern und Interessierte\, d
 ie Gesundheit und Familienalltag neu denken möchten.\n\n*** Pause ***\n\n
 16:00 - 16:45 Uhr:\n\nDas Immunsystem stärken mit Achtsamkeit und Selbstm
 itgefühl (Petra Kappelmeier)\n\nWie wirken eigentlich Achtsamkeit und Sel
 bstmitgefühl und was bringt das? Werde ich dadurch ein „Weichei“? Wie
  kann ich dadurch resilienter werden? Kann das wirklich mein Stresslevel s
 enken und meine Gesundheit bewahren?\nIn diesem Mini-Workshop gibt’s was
  zu erleben und Impulse to Go!\n\n16:45 - 17:30 Uhr: Einzelgespräche mit 
 den Expertinnen\n\nStellen Sie Ihre Fragen gerne persönlich.\n\ngg. 17:30
  Uhr: Ende der Veranstaltung\n\n\n\n\n\n\n\n\nZielgruppe \nEltern und Int
 eressierte\, die Gesundheit und Familienalltag neu denken möchten\nKosten
 \ndie Veranstaltung ist kostenfrei\nAnmeldung\nUm eine angemessene Organis
 ation zu gewährleisten\, bitte ich um vorherige Anmeldung per E-Mail oder
  über unser Kontaktformular.\nParken und Eingang\n\n 	gute Parkmöglichke
 iten finden Sie an der Gabelung Vormarkt / Pfaffenhofener Straße.\n 	Der 
 Eingang erfolgt über den Biergarten und ist barrierefrei.\n\n\n
ATTACH;FMTTYPE=image/jpeg:https://alltagsbehr.de/wp-content/uploads/2025/1
 1/IMG_3578-2zu1.jpeg
CATEGORIES:Veranstaltung mit thematischem Input
LOCATION:Metzgerbräu Hohenwart\, Metzgerbräustraße 2\, Hohenwart\, Bayer
 n\, 86558 \, Deutschland
X-APPLE-STRUCTURED-LOCATION;VALUE=URI;X-ADDRESS=Metzgerbräustraße 2\, Hoh
 enwart\, Bayern\, 86558 \, Deutschland;X-APPLE-RADIUS=100;X-TITLE=Metzgerb
 räu Hohenwart:geo:0,0
END:VEVENT
BEGIN:VTIMEZONE
TZID:Europe/Berlin
X-LIC-LOCATION:Europe/Berlin
BEGIN:STANDARD
DTSTART:20251026T020000
TZOFFSETFROM:+0200
TZOFFSETTO:+0100
TZNAME:CET
END:STANDARD
END:VTIMEZONE
END:VCALENDAR